BEGIN:VCALENDAR
VERSION:2.0
PRODID:-//The Happy Beast - ECPv6.15.20//NONSGML v1.0//EN
CALSCALE:GREGORIAN
METHOD:PUBLISH
X-ORIGINAL-URL:https://thehappybeast.com
X-WR-CALDESC:Events for The Happy Beast
REFRESH-INTERVAL;VALUE=DURATION:PT1H
X-Robots-Tag:noindex
X-PUBLISHED-TTL:PT1H
BEGIN:VTIMEZONE
TZID:America/Denver
BEGIN:DAYLIGHT
TZOFFSETFROM:-0700
TZOFFSETTO:-0600
TZNAME:MDT
DTSTART:20240310T090000
END:DAYLIGHT
BEGIN:STANDARD
TZOFFSETFROM:-0600
TZOFFSETTO:-0700
TZNAME:MST
DTSTART:20241103T080000
END:STANDARD
BEGIN:DAYLIGHT
TZOFFSETFROM:-0700
TZOFFSETTO:-0600
TZNAME:MDT
DTSTART:20250309T090000
END:DAYLIGHT
BEGIN:STANDARD
TZOFFSETFROM:-0600
TZOFFSETTO:-0700
TZNAME:MST
DTSTART:20251102T080000
END:STANDARD
BEGIN:DAYLIGHT
TZOFFSETFROM:-0700
TZOFFSETTO:-0600
TZNAME:MDT
DTSTART:20260308T090000
END:DAYLIGHT
BEGIN:STANDARD
TZOFFSETFROM:-0600
TZOFFSETTO:-0700
TZNAME:MST
DTSTART:20261101T080000
END:STANDARD
END:VTIMEZONE
BEGIN:VEVENT
DTSTART;TZID=America/Denver:20251018T093000
DTEND;TZID=America/Denver:20251018T103000
DTSTAMP:20260422T101240
CREATED:20250922T213622Z
LAST-MODIFIED:20251011T161630Z
UID:6627-1760779800-1760783400@thehappybeast.com
SUMMARY:Happy Cat Yoga Saturday October 18th @ 9:30a
DESCRIPTION:Join us for yoga with the kitties of The Happy Beast Cat Cafe in Lafayette every third Caturday of the month! Bring your own mat (NOT your own cat) and enjoy yoga among the cats. Expect an all levels yoga class while the cats freely roam and play on and around your mats. Play with the kitties while also caring for yourself. \n\n\n\n\n\n\n\n\n\nEvent Organizer\n\n\n\n\n\n\n\n\n\nEvent Location
URL:https://thehappybeast.com/event/happy-cat-yoga-august-16-2025-2-3/
LOCATION:The Happy Beast\, 1230 Etna Dr.\, Lafayette\, CO\, 80026\, United States
CATEGORIES:Yoga
ATTACH;FMTTYPE=image/jpeg:https://thehappybeast.com/wp-content/uploads/2025/08/the-happy-beast-cat-yoga-toes.jpeg
ORGANIZER;CN="Yoga with Eva":MAILTO:doyogawitheva@gmail.com
END:VEVENT
BEGIN:VEVENT
DTSTART;TZID=America/Denver:20251020T180000
DTEND;TZID=America/Denver:20251020T190000
DTSTAMP:20260422T101240
CREATED:20251019T204843Z
LAST-MODIFIED:20251019T204844Z
UID:6636-1760983200-1760986800@thehappybeast.com
SUMMARY:Cosmic Dog Training | Dog Behavior Workshop
DESCRIPTION:Build a Better Bond with Your DogFree Workshop Series from Cosmic Dog Training with Kathleen Valentine\, Certified Pro Dog Trainer and Behavior Specialist \n\n\n\nPreparing Us for the HOLIDAYS! \n\n\n\nGet your dog ready for the hustle and bustle of the holiday season!  \n\n\n\n\nLearn practical tips to help your dog stay calm with visitors\, decorations\, travel\, and schedule changes so everyone can enjoy the festivities stress-free! \n\n\n\n\n\n\n\n\n\n\nEvent Organizer\n\n\n\n\n\n\n\n\n\nEvent Location
URL:https://thehappybeast.com/event/cosmic-dog-training-dog-behavior-qa-august-25-2025-2-2/
LOCATION:The Happy Beast\, 1230 Etna Dr.\, Lafayette\, CO\, 80026\, United States
CATEGORIES:Yoga
ATTACH;FMTTYPE=image/jpeg:https://thehappybeast.com/wp-content/uploads/2025/08/CD_Ad_Poster-Happy-Beast-Event-Sept-2025-2-1.jpg
ORGANIZER;CN="Cosmic Dog Training":MAILTO:Kathleen@cosmicdogco.com
END:VEVENT
BEGIN:VEVENT
DTSTART;TZID=America/Denver:20251025T090000
DTEND;TZID=America/Denver:20251025T180000
DTSTAMP:20260422T101240
CREATED:20251019T201407Z
LAST-MODIFIED:20251019T201546Z
UID:6631-1761382800-1761415200@thehappybeast.com
SUMMARY:Costume Contest Saturday October 25th
DESCRIPTION:Join us to celebrate Halloween! \n\n\n\nALL DAY Costume Contest\, PRIZES for top 3 winners. \n\n\n\n10% Discount on all Wild Nosh items for active participants! \n\n\n\n$50 off coupon from Cosmic Dog Training! \n\n\n\nWinners will be announced by 5pm Saturday the 25th \n\n\n\n \n\n\n\n\n\n\n\nEvent Organizer\n\n\n\n\n\n\n\nEvent Location
URL:https://thehappybeast.com/event/happy-cat-yoga-august-16-2025-2-2-2/
LOCATION:The Happy Beast\, 1230 Etna Dr.\, Lafayette\, CO\, 80026\, United States
CATEGORIES:Yoga
ATTACH;FMTTYPE=image/jpeg:https://thehappybeast.com/wp-content/uploads/2025/09/Deal-signs-1.jpg
END:VEVENT
BEGIN:VEVENT
DTSTART;TZID=America/Denver:20251025T120000
DTEND;TZID=America/Denver:20251025T130000
DTSTAMP:20260422T101240
CREATED:20251019T205019Z
LAST-MODIFIED:20251019T205043Z
UID:6638-1761393600-1761397200@thehappybeast.com
SUMMARY:Cosmic Dog Training | Dog Behavior Workshop
DESCRIPTION:Build a Better Bond with Your DogFree Workshop Series from Cosmic Dog Training with Kathleen Valentine\, Certified Pro Dog Trainer and Behavior Specialist \n\n\n\nPreparing Us for the HOLIDAYS! \n\n\n\nGet your dog ready for the hustle and bustle of the holiday season!  \n\n\n\n\nLearn practical tips to help your dog stay calm with visitors\, decorations\, travel\, and schedule changes so everyone can enjoy the festivities stress-free! \n\n\n\n\n\n\n\n\n\n\nEvent Organizer\n\n\n\n\n\n\n\n\n\nEvent Location
URL:https://thehappybeast.com/event/cosmic-dog-training-dog-behavior-qa-august-25-2025-2-2-2/
LOCATION:The Happy Beast\, 1230 Etna Dr.\, Lafayette\, CO\, 80026\, United States
CATEGORIES:Yoga
ATTACH;FMTTYPE=image/jpeg:https://thehappybeast.com/wp-content/uploads/2025/08/CD_Ad_Poster-Happy-Beast-Event-Sept-2025-2-1.jpg
ORGANIZER;CN="Cosmic Dog Training":MAILTO:Kathleen@cosmicdogco.com
END:VEVENT
END:VCALENDAR