BEGIN:VCALENDAR
VERSION:2.0
PRODID:-//The Happy Beast - ECPv6.15.20//NONSGML v1.0//EN
CALSCALE:GREGORIAN
METHOD:PUBLISH
X-WR-CALNAME:The Happy Beast
X-ORIGINAL-URL:https://thehappybeast.com
X-WR-CALDESC:Events for The Happy Beast
REFRESH-INTERVAL;VALUE=DURATION:PT1H
X-Robots-Tag:noindex
X-PUBLISHED-TTL:PT1H
BEGIN:VTIMEZONE
TZID:America/Denver
BEGIN:DAYLIGHT
TZOFFSETFROM:-0700
TZOFFSETTO:-0600
TZNAME:MDT
DTSTART:20240310T090000
END:DAYLIGHT
BEGIN:STANDARD
TZOFFSETFROM:-0600
TZOFFSETTO:-0700
TZNAME:MST
DTSTART:20241103T080000
END:STANDARD
BEGIN:DAYLIGHT
TZOFFSETFROM:-0700
TZOFFSETTO:-0600
TZNAME:MDT
DTSTART:20250309T090000
END:DAYLIGHT
BEGIN:STANDARD
TZOFFSETFROM:-0600
TZOFFSETTO:-0700
TZNAME:MST
DTSTART:20251102T080000
END:STANDARD
BEGIN:DAYLIGHT
TZOFFSETFROM:-0700
TZOFFSETTO:-0600
TZNAME:MDT
DTSTART:20260308T090000
END:DAYLIGHT
BEGIN:STANDARD
TZOFFSETFROM:-0600
TZOFFSETTO:-0700
TZNAME:MST
DTSTART:20261101T080000
END:STANDARD
END:VTIMEZONE
BEGIN:VEVENT
DTSTART;TZID=America/Denver:20250920T093000
DTEND;TZID=America/Denver:20250920T103000
DTSTAMP:20260424T051706
CREATED:20250817T181901Z
LAST-MODIFIED:20250817T185812Z
UID:6612-1758360600-1758364200@thehappybeast.com
SUMMARY:Happy Cat Yoga Saturday September 20th
DESCRIPTION:Join us for yoga with the kitties of The Happy Beast Cat Cafe in Lafayette every third Caturday of the month! Bring your own mat (NOT your own cat) and enjoy yoga among the cats. Expect an all levels yoga class while the cats freely roam and play on and around your mats. Play with the kitties while also caring for yourself. \n\n\n\n\n\n\n\n\n\nEvent Organizer\n\n\n\n\n\n\n\n\n\nEvent Location
URL:https://thehappybeast.com/event/happy-cat-yoga-august-16-2025-2/
LOCATION:The Happy Beast\, 1230 Etna Dr.\, Lafayette\, CO\, 80026\, United States
CATEGORIES:Yoga
ATTACH;FMTTYPE=image/jpeg:https://thehappybeast.com/wp-content/uploads/2025/08/the-happy-beast-cat-yoga-toes.jpeg
ORGANIZER;CN="Yoga with Eva":MAILTO:doyogawitheva@gmail.com
END:VEVENT
BEGIN:VEVENT
DTSTART;TZID=America/Denver:20250922T170000
DTEND;TZID=America/Denver:20250922T180000
DTSTAMP:20260424T051706
CREATED:20250807T223928Z
LAST-MODIFIED:20250831T204055Z
UID:6609-1758560400-1758564000@thehappybeast.com
SUMMARY:Cosmic Dog Training | Dog Behavior Workshop
DESCRIPTION:Build a Better Bond with Your DogFree Workshop Series from Cosmic Dog Training with Kathleen Valentine\, Certified Pro Dog Trainer and Behavior Specialist \n\n\n\nUnderstanding Reactivity: Connection vs Control \n\n\n\n\nWhy reactivity is an emotional struggle\, not bad behavior\n\n\n\nReal-life examples & take home strategies\n\n\n\n\n\n\n\n\n\n\nEvent Organizer\n\n\n\n\n\n\n\n\n\nEvent Location
URL:https://thehappybeast.com/event/cosmic-dog-training-dog-behavior-qa-august-25-2025/
LOCATION:The Happy Beast\, 1230 Etna Dr.\, Lafayette\, CO\, 80026\, United States
CATEGORIES:Yoga
ATTACH;FMTTYPE=image/jpeg:https://thehappybeast.com/wp-content/uploads/2025/03/Cosmic-Dog-Training-Logo-Square-Purple.jpg
ORGANIZER;CN="Cosmic Dog Training":MAILTO:Kathleen@cosmicdogco.com
END:VEVENT
BEGIN:VEVENT
DTSTART;TZID=America/Denver:20250927T090000
DTEND;TZID=America/Denver:20250927T180000
DTSTAMP:20260424T051706
CREATED:20250920T201828Z
LAST-MODIFIED:20250922T213644Z
UID:6623-1758963600-1758996000@thehappybeast.com
SUMMARY:Pawtoberfest Saturday September 27th
DESCRIPTION:Join us to celebrate Pawtoberfest!  \n\n\n\nExlusive In Store Deals ALL DAY \n\n\n\nCosmic Dog Training Activities & Workshop \n\n\n\nAdoptable Pets from Mother Gaia Animal Rescue \n\n\n\nAnd Other Great Local Vendor Booths! \n\n\n\n \n\n\n\n\n\n\n\nEvent Organizer\n\n\n\n\n\n\n\nEvent Location
URL:https://thehappybeast.com/event/happy-cat-yoga-august-16-2025-2-2/
LOCATION:The Happy Beast\, 1230 Etna Dr.\, Lafayette\, CO\, 80026\, United States
CATEGORIES:Yoga
ATTACH;FMTTYPE=image/jpeg:https://thehappybeast.com/wp-content/uploads/2025/09/Deal-signs-1.jpg
END:VEVENT
BEGIN:VEVENT
DTSTART;TZID=America/Denver:20250927T140000
DTEND;TZID=America/Denver:20250927T150000
DTSTAMP:20260424T051706
CREATED:20250831T203921Z
LAST-MODIFIED:20250831T204041Z
UID:6620-1758981600-1758985200@thehappybeast.com
SUMMARY:Cosmic Dog Training | Dog Behavior Workshop
DESCRIPTION:Build a Better Bond with Your DogFree Workshop Series from Cosmic Dog Training with Kathleen Valentine\, Certified Pro Dog Trainer and Behavior Specialist \n\n\n\nUnderstanding Reactivity: Connection vs Control \n\n\n\n\nWhy reactivity is an emotional struggle\, not bad behavior\n\n\n\nReal-life examples & take home strategies\n\n\n\n\n\n\n\n\n\n\nEvent Organizer\n\n\n\n\n\n\n\n\n\nEvent Location
URL:https://thehappybeast.com/event/cosmic-dog-training-dog-behavior-qa-august-25-2025-2/
LOCATION:The Happy Beast\, 1230 Etna Dr.\, Lafayette\, CO\, 80026\, United States
CATEGORIES:Yoga
ATTACH;FMTTYPE=image/jpeg:https://thehappybeast.com/wp-content/uploads/2025/08/CD_Ad_Poster-Happy-Beast-Event-Sept-2025-2-1.jpg
ORGANIZER;CN="Cosmic Dog Training":MAILTO:Kathleen@cosmicdogco.com
END:VEVENT
END:VCALENDAR