BEGIN:VCALENDAR
VERSION:2.0
PRODID:-//The Happy Beast - ECPv6.15.20//NONSGML v1.0//EN
CALSCALE:GREGORIAN
METHOD:PUBLISH
X-WR-CALNAME:The Happy Beast
X-ORIGINAL-URL:https://thehappybeast.com
X-WR-CALDESC:Events for The Happy Beast
REFRESH-INTERVAL;VALUE=DURATION:PT1H
X-Robots-Tag:noindex
X-PUBLISHED-TTL:PT1H
BEGIN:VTIMEZONE
TZID:America/Denver
BEGIN:DAYLIGHT
TZOFFSETFROM:-0700
TZOFFSETTO:-0600
TZNAME:MDT
DTSTART:20150308T090000
END:DAYLIGHT
BEGIN:STANDARD
TZOFFSETFROM:-0600
TZOFFSETTO:-0700
TZNAME:MST
DTSTART:20151101T080000
END:STANDARD
BEGIN:DAYLIGHT
TZOFFSETFROM:-0700
TZOFFSETTO:-0600
TZNAME:MDT
DTSTART:20160313T090000
END:DAYLIGHT
BEGIN:STANDARD
TZOFFSETFROM:-0600
TZOFFSETTO:-0700
TZNAME:MST
DTSTART:20161106T080000
END:STANDARD
BEGIN:DAYLIGHT
TZOFFSETFROM:-0700
TZOFFSETTO:-0600
TZNAME:MDT
DTSTART:20170312T090000
END:DAYLIGHT
BEGIN:STANDARD
TZOFFSETFROM:-0600
TZOFFSETTO:-0700
TZNAME:MST
DTSTART:20171105T080000
END:STANDARD
BEGIN:DAYLIGHT
TZOFFSETFROM:-0700
TZOFFSETTO:-0600
TZNAME:MDT
DTSTART:20180311T090000
END:DAYLIGHT
BEGIN:STANDARD
TZOFFSETFROM:-0600
TZOFFSETTO:-0700
TZNAME:MST
DTSTART:20181104T080000
END:STANDARD
BEGIN:DAYLIGHT
TZOFFSETFROM:-0700
TZOFFSETTO:-0600
TZNAME:MDT
DTSTART:20190310T090000
END:DAYLIGHT
BEGIN:STANDARD
TZOFFSETFROM:-0600
TZOFFSETTO:-0700
TZNAME:MST
DTSTART:20191103T080000
END:STANDARD
BEGIN:DAYLIGHT
TZOFFSETFROM:-0700
TZOFFSETTO:-0600
TZNAME:MDT
DTSTART:20200308T090000
END:DAYLIGHT
BEGIN:STANDARD
TZOFFSETFROM:-0600
TZOFFSETTO:-0700
TZNAME:MST
DTSTART:20201101T080000
END:STANDARD
BEGIN:DAYLIGHT
TZOFFSETFROM:-0700
TZOFFSETTO:-0600
TZNAME:MDT
DTSTART:20210314T090000
END:DAYLIGHT
BEGIN:STANDARD
TZOFFSETFROM:-0600
TZOFFSETTO:-0700
TZNAME:MST
DTSTART:20211107T080000
END:STANDARD
BEGIN:DAYLIGHT
TZOFFSETFROM:-0700
TZOFFSETTO:-0600
TZNAME:MDT
DTSTART:20220313T090000
END:DAYLIGHT
BEGIN:STANDARD
TZOFFSETFROM:-0600
TZOFFSETTO:-0700
TZNAME:MST
DTSTART:20221106T080000
END:STANDARD
BEGIN:DAYLIGHT
TZOFFSETFROM:-0700
TZOFFSETTO:-0600
TZNAME:MDT
DTSTART:20230312T090000
END:DAYLIGHT
BEGIN:STANDARD
TZOFFSETFROM:-0600
TZOFFSETTO:-0700
TZNAME:MST
DTSTART:20231105T080000
END:STANDARD
BEGIN:DAYLIGHT
TZOFFSETFROM:-0700
TZOFFSETTO:-0600
TZNAME:MDT
DTSTART:20240310T090000
END:DAYLIGHT
BEGIN:STANDARD
TZOFFSETFROM:-0600
TZOFFSETTO:-0700
TZNAME:MST
DTSTART:20241103T080000
END:STANDARD
BEGIN:DAYLIGHT
TZOFFSETFROM:-0700
TZOFFSETTO:-0600
TZNAME:MDT
DTSTART:20250309T090000
END:DAYLIGHT
BEGIN:STANDARD
TZOFFSETFROM:-0600
TZOFFSETTO:-0700
TZNAME:MST
DTSTART:20251102T080000
END:STANDARD
BEGIN:DAYLIGHT
TZOFFSETFROM:-0700
TZOFFSETTO:-0600
TZNAME:MDT
DTSTART:20260308T090000
END:DAYLIGHT
BEGIN:STANDARD
TZOFFSETFROM:-0600
TZOFFSETTO:-0700
TZNAME:MST
DTSTART:20261101T080000
END:STANDARD
END:VTIMEZONE
BEGIN:VEVENT
DTSTART;TZID=America/Denver:20250419T120000
DTEND;TZID=America/Denver:20250419T150000
DTSTAMP:20260420T161332
CREATED:20250413T210351Z
LAST-MODIFIED:20250419T175449Z
UID:6547-1745064000-1745074800@thehappybeast.com
SUMMARY:CANCELLED: Gray Muzzle Society Farm Day with Molly's Menagerie
DESCRIPTION:Sorry\, we had to cancel on account of the weather\, but we’ll look forward to rescheduling soon.Join Gray Muzzle Society for a heartwarming and fun-filled Farm Day with Molly’s Menagerie at The Happy Beast! come experience the joy of interacting with a variety of adorable farm animals.. \n\n\n\nThis special event offers a unique opportunity to connect with the residents of Molly’s Menagerie\, learn about the important work of the Gray Muzzle Society in supporting senior animals\, and enjoy a delightful day outdoors. The event will be a fantastic way to spend quality time and support a wonderful cause. \n\n\n\nWhat to expect: \n\n\n\n\nMeet and greet the animals: Molly’s Menagerie is home to a diverse range of friendly farm animals\, offering memorable interactions for all.\n\n\n\nLearn about senior animal care: Discover how the Gray Muzzle Society makes a difference in the lives of older animals.\n\n\n\nFamily-friendly fun: This event is perfect for all ages\, promising a joyful experience for everyone.\n\n\n\nSupport a great cause: Your participation helps the Gray Muzzle Society continue their vital work.\n\n\n\n\nDon’t miss this chance to enjoy a special day with Molly’s Menagerie while supporting the well-being of senior animals through the Gray Muzzle Society. We look forward to seeing you there! \n\n\n\n\n\n\n\n\n\nEvent Organizer\n\n\n\n\n\n\n\n\n\nEvent Location
URL:https://thehappybeast.com/event/gray-muzzle-society-farm-day-mollys-menagerie/
LOCATION:The Happy Beast\, 1230 Etna Dr.\, Lafayette\, CO\, 80026\, United States
CATEGORIES:Adoptions
ATTACH;FMTTYPE=image/webp:https://thehappybeast.com/wp-content/uploads/2025/04/mollys-menagerie-gray-muzzle-society-logo.webp
ORGANIZER;CN="Gray Muzzle Society":MAILTO:info@graymuzzlesociety.org
END:VEVENT
BEGIN:VEVENT
DTSTART;TZID=America/Denver:20250419T120000
DTEND;TZID=America/Denver:20250419T150000
DTSTAMP:20260420T161332
CREATED:20250413T200142Z
LAST-MODIFIED:20250414T001921Z
UID:6517-1745064000-1745074800@thehappybeast.com
SUMMARY:Adoption Event with Mother Gaia Animal Rescue - April 19th
DESCRIPTION:Mark your calendars for a day of furry fun! Join The Happy Beast and Mother Gaia Animal Rescue for adoption events the 1st and 3rd Saturdays of every month. We’ll have a wonderful selection of adoptable cats and dogs ready to meet their new best friends. Come on down\, meet some incredible animals\, and maybe even find the newest member of your family! \n\n\n\n\n\n\n\n\n\nEvent Organizer\n\n\n\n\n\n\n\n\n\nEvent Location
URL:https://thehappybeast.com/event/adoption-event-with-mother-gaia-animal-rescue-april-19th/
LOCATION:The Happy Beast\, 1230 Etna Dr.\, Lafayette\, CO\, 80026\, United States
CATEGORIES:Adoptions
ATTACH;FMTTYPE=image/jpeg:https://thehappybeast.com/wp-content/uploads/2017/05/brain-games-crate-rest-dog-the-happy-beast.jpg
ORGANIZER;CN="Mother Gaia Animal Rescue":MAILTO:tiffany@mgarcolorado.org
END:VEVENT
BEGIN:VEVENT
DTSTART;TZID=America/Denver:20170729T030000
DTEND;TZID=America/Denver:20170729T070000
DTSTAMP:20260420T161332
CREATED:20170709T232046Z
LAST-MODIFIED:20250414T001826Z
UID:5721-1501297200-1501311600@thehappybeast.com
SUMMARY:Crazy Cat Party & Sale
DESCRIPTION:Last July\, we declared our independence from dry food for cats and became a kitty kibble-free store. This year we’re celebrating with a CRAZY CAT PARTY! Enjoy sales on raw and canned cat foods\, free food and drinks\, and tasty samples of free catnip! \nWe’ll also have Dr. Fern from Uniquely Cats Veterinary Center at the store answering your questions about feline health and nutrition. \nDon your favorite cat clothes and get ready to party! \n  \nDon’t have a favorite cat shirt yet? Well you’re in luck! Now you can get yourself one of our awesome cat shirts and help raise money for local\, no-kill cat shelters!
URL:https://thehappybeast.com/event/crazy-cat-party-sale/
LOCATION:The Happy Beast\, 1230 Etna Dr.\, Lafayette\, CO\, 80026\, United States
CATEGORIES:Party
ATTACH;FMTTYPE=image/jpeg:https://thehappybeast.com/wp-content/uploads/2017/07/crazy-cat-party-the-happy-beast.jpg
ORGANIZER;CN="The Happy Beast":MAILTO:eat@thehappybeast.com
END:VEVENT
BEGIN:VEVENT
DTSTART;TZID=America/Denver:20170513T100000
DTEND;TZID=America/Denver:20170513T120000
DTSTAMP:20260420T161332
CREATED:20170430T031929Z
LAST-MODIFIED:20170430T031929Z
UID:5658-1494669600-1494676800@thehappybeast.com
SUMMARY:Cat Mythbusters Meetup with Dr. Fern
DESCRIPTION:Join us at the next gathering of Secrets to Cat Health and Happiness Meetup group on May 13 at 10 am. Let’s get together and debunk some of the most prevalent myths about cats and their health. This Meetup will be held at The Happy Beast in Lafayette\, CO. \nMeetup myth busting will be led by feline exclusive veterinarian\, Fern Slack\, DVM from Uniquely Cats Veterinary Center in Boulder. Dr. Slack has been practicing feline exclusive medicine for over 23 years. She has served two terms on the Board of Directors of the American Association of Feline Practitioners (AAFP)\, and one term as the Chairman of the Practice Guidelines Committee of the AAFP\, overseeing the creation and publication of several current standard-of-care feline medicine documents. \nHope to see you there!
URL:https://thehappybeast.com/event/cat-mythbusters-meetup/
LOCATION:The Happy Beast\, 1230 Etna Dr.\, Lafayette\, CO\, 80026\, United States
CATEGORIES:Meetup
ATTACH;FMTTYPE=image/jpeg:https://thehappybeast.com/wp-content/uploads/2017/04/Uniquely-Cats-Meetup-The-Happy-Beast.jpg
ORGANIZER;CN="The Happy Beast":MAILTO:eat@thehappybeast.com
END:VEVENT
BEGIN:VEVENT
DTSTART;VALUE=DATE:20170429
DTEND;VALUE=DATE:20170501
DTSTAMP:20260420T161332
CREATED:20170430T032656Z
LAST-MODIFIED:20170430T032656Z
UID:5664-1493488800-1493575199@thehappybeast.com
SUMMARY:Puppy & Kitten Adoptions
DESCRIPTION:So many little puppies and kittens are looking for good loving homes! Come meet them this Saturday\, April 30 as we host our latest adoption event with Mother Gaia Animal Rescue. Free snacks and drinks all day!
URL:https://thehappybeast.com/event/puppy-kitten-adoptions/
LOCATION:The Happy Beast\, 1230 Etna Dr.\, Lafayette\, CO\, 80026\, United States
CATEGORIES:Adoptions
ATTACH;FMTTYPE=image/jpeg:https://thehappybeast.com/wp-content/uploads/2017/02/puppy-kitty-adoptions-the-happy-beast.jpg
ORGANIZER;CN="The Happy Beast":MAILTO:eat@thehappybeast.com
END:VEVENT
BEGIN:VEVENT
DTSTART;TZID=America/Denver:20170218T110000
DTEND;TZID=America/Denver:20170218T140000
DTSTAMP:20260420T161332
CREATED:20170212T233245Z
LAST-MODIFIED:20170212T235200Z
UID:5554-1487415600-1487426400@thehappybeast.com
SUMMARY:Puppy & Kitten Adoptions at The Happy Beast!
DESCRIPTION:Puppies\, kittens and small dogs looking for new families! Mother Gaia Animal Rescue saves animals from high-kill shelters and finds them homes in Colorado! Meet your new best friend this weekend. Free coffee and treats all day!
URL:https://thehappybeast.com/event/puppy-kitty-adoptions-feb-18-2017/
LOCATION:The Happy Beast\, 1230 Etna Dr.\, Lafayette\, CO\, 80026\, United States
CATEGORIES:Adoptions
ATTACH;FMTTYPE=image/jpeg:https://thehappybeast.com/wp-content/uploads/2017/02/puppy-kitty-adoptions-the-happy-beast.jpg
ORGANIZER;CN="The Happy Beast":MAILTO:eat@thehappybeast.com
END:VEVENT
BEGIN:VEVENT
DTSTART;VALUE=DATE:20161216
DTEND;VALUE=DATE:20161218
DTSTAMP:20260420T161332
CREATED:20161127T003119Z
LAST-MODIFIED:20161127T011552Z
UID:5502-1481907600-1481993999@thehappybeast.com
SUMMARY:Ugly Sweater Holiday Party
DESCRIPTION:Celebrate the Holidays with us! The Annual Happy Beast Ugly Sweater Party is Saturday\, December 17th! Stop by the store with your four-legged friends and your ugliest sweater for a day filled with treats and holiday revelry!
URL:https://thehappybeast.com/event/ugly-sweater-holiday-party/
LOCATION:The Happy Beast\, 1230 Etna Dr.\, Lafayette\, CO\, 80026\, United States
ATTACH;FMTTYPE=image/png:https://thehappybeast.com/wp-content/uploads/2016/11/Ugly-Sweater-Holiday-Party-The-Happy-Beast-v3.png
ORGANIZER;CN="The Happy Beast":MAILTO:eat@thehappybeast.com
END:VEVENT
BEGIN:VEVENT
DTSTART;TZID=America/Denver:20160626T040000
DTEND;TZID=America/Denver:20160626T070000
DTSTAMP:20260420T161332
CREATED:20160603T014040Z
LAST-MODIFIED:20160603T014151Z
UID:5244-1466913600-1466924400@thehappybeast.com
SUMMARY:Saving DobermanKIND Adoption Day
DESCRIPTION:Meet Dobermans looking for their forever homes! \nFree iced coffee and treats all morning! \nhttp://www.savingdobermankind.org/
URL:https://thehappybeast.com/event/saving-dobermankind-adoption-day/
LOCATION:The Happy Beast\, 1230 Etna Dr.\, Lafayette\, CO\, 80026\, United States
END:VEVENT
BEGIN:VEVENT
DTSTART;TZID=America/Denver:20160611T070000
DTEND;TZID=America/Denver:20160611T110000
DTSTAMP:20260420T161332
CREATED:20160603T014512Z
LAST-MODIFIED:20160603T014535Z
UID:5245-1465628400-1465642800@thehappybeast.com
SUMMARY:Mile High Dachshunds Event at Odd13 Brewing
DESCRIPTION:#JustOneDay \nA day is 24 hours. A day can be something we look forward to\, but in U.S. animal shelters\, a day represents 10\,411 lives needlessly lost. \nTo most people\, June 11th is just a day. \nBut\, June 11\, 2016 is a DAY that will change everything for more than 10\,000 companion animals\, and a day that can change the world. \nJoin Team Doxie\, Coast to Coast Dachshund Rescue\, and Mother Goddess Animal Rescue at Odd 13 Brewing on Saturday\, June 11th to commemorate the lives saved in 2016. \nIn addition to adoptable animals\, we will have door prizes and giveaways\, games\, food trucks\, and of course beer! Bring the whole family ~ that means two- and four-legged kids ~ for this fun-filled outing at an award-winning brewery in the heart of Lafayette\, CO!
URL:https://thehappybeast.com/event/mile-high-dachshunds-adoptions-odd13/
LOCATION:Odd13 Brewing\,  301 E Simpson St\, \, Lafayette\, 80026\, United States
END:VEVENT
BEGIN:VEVENT
DTSTART;TZID=America/Denver:20160529T040000
DTEND;TZID=America/Denver:20160529T070000
DTSTAMP:20260420T161332
CREATED:20160505T054123Z
LAST-MODIFIED:20160508T224300Z
UID:5165-1464494400-1464505200@thehappybeast.com
SUMMARY:Canine Massage @ The Happy Beast - 5/29/16
DESCRIPTION:Canine massage with Claire Martin\, CCMT\, CVT\n$10 donation for a 30-minute massage\nDonatations benefit Do Over Dogs\nCall the store at 303-604-1300 to schedule an appointment
URL:https://thehappybeast.com/event/event-canine-massage/
LOCATION:The Happy Beast\, 1230 Etna Dr.\, Lafayette\, CO\, 80026\, United States
CATEGORIES:Canine Massage
ATTACH;FMTTYPE=image/jpeg:https://thehappybeast.com/wp-content/uploads/2016/05/canine-massage-the-happy-beast.jpg
ORGANIZER;CN="The Happy Beast":MAILTO:eat@thehappybeast.com
END:VEVENT
BEGIN:VEVENT
DTSTART;TZID=America/Denver:20160529T040000
DTEND;TZID=America/Denver:20160529T070000
DTSTAMP:20260420T161332
CREATED:20160505T053724Z
LAST-MODIFIED:20160508T224332Z
UID:5164-1464494400-1464505200@thehappybeast.com
SUMMARY:Adoption Day with Do Over Dogs @ The Happy Beast - 5/29/16
DESCRIPTION:Stop by our adoption day event from 10:00am – 1:00pm on Sunday\, May 29th\, 2016 and meet dogs from Do Over Dogs looking for their forever homes!\nFree coffee and pastries all morning!\n\n 
URL:https://thehappybeast.com/event/event-adoption-day-may-29-do-over-dogs/
LOCATION:The Happy Beast\, 1230 Etna Dr.\, Lafayette\, CO\, 80026\, United States
CATEGORIES:Adoptions
ATTACH;FMTTYPE=image/png:https://thehappybeast.com/wp-content/uploads/2016/05/do-over-dogs-adoption-event-the-happy-beast.png
ORGANIZER;CN="The Happy Beast":MAILTO:eat@thehappybeast.com
END:VEVENT
BEGIN:VEVENT
DTSTART;TZID=America/Denver:20160521T030000
DTEND;TZID=America/Denver:20160522T110000
DTSTAMP:20260420T161332
CREATED:20160518T051138Z
LAST-MODIFIED:20160518T051235Z
UID:5213-1463799600-1463914800@thehappybeast.com
SUMMARY:Fresh Food Sale! 10-15% off Select Raw
DESCRIPTION:Save 10-15% on some of our favorite brands of raw\, freeze-dried\, dehydrated and air-dried dog and cat food! \nIncluding Grandma Lucy’s\, The Honest Kitchen\, Rad Cat\, Small Batch\, Sojo’s\, Stella & Chewy’s and ZiwiPeak
URL:https://thehappybeast.com/event/fresh-food-sale/
LOCATION:CO
END:VEVENT
BEGIN:VEVENT
DTSTART;TZID=America/Denver:20160320T040000
DTEND;TZID=America/Denver:20160320T070000
DTSTAMP:20260420T161332
CREATED:20160320T002557Z
LAST-MODIFIED:20160508T224528Z
UID:5097-1458446400-1458457200@thehappybeast.com
SUMMARY:Doberman Adoptions & Canine Massage @ The Happy Beast
DESCRIPTION:Meet dogs from Saving Dobermankind looking for their forever families!\nFree coffee and pastries all morning!\n$5 Donation for 10-minute massage for your canine with Claire Martin\, CVT Peak Animal Wellness and Massage
URL:https://thehappybeast.com/event/doberman-adoptions-canine-massage/
LOCATION:The Happy Beast\, 1230 Etna Dr.\, Lafayette\, CO\, 80026\, United States
CATEGORIES:Adoptions,Canine Massage
ATTACH;FMTTYPE=image/jpeg:https://thehappybeast.com/wp-content/uploads/2016/03/doberman-adoption-event-dobermankind-the-happy-beast.jpg
ORGANIZER;CN="The Happy Beast":MAILTO:eat@thehappybeast.com
END:VEVENT
END:VCALENDAR