BEGIN:VCALENDAR
VERSION:2.0
PRODID:-//The Happy Beast - ECPv6.15.20//NONSGML v1.0//EN
CALSCALE:GREGORIAN
METHOD:PUBLISH
X-ORIGINAL-URL:https://thehappybeast.com
X-WR-CALDESC:Events for The Happy Beast
REFRESH-INTERVAL;VALUE=DURATION:PT1H
X-Robots-Tag:noindex
X-PUBLISHED-TTL:PT1H
BEGIN:VTIMEZONE
TZID:America/Denver
BEGIN:DAYLIGHT
TZOFFSETFROM:-0700
TZOFFSETTO:-0600
TZNAME:MDT
DTSTART:20250309T090000
END:DAYLIGHT
BEGIN:STANDARD
TZOFFSETFROM:-0600
TZOFFSETTO:-0700
TZNAME:MST
DTSTART:20251102T080000
END:STANDARD
BEGIN:DAYLIGHT
TZOFFSETFROM:-0700
TZOFFSETTO:-0600
TZNAME:MDT
DTSTART:20260308T090000
END:DAYLIGHT
BEGIN:STANDARD
TZOFFSETFROM:-0600
TZOFFSETTO:-0700
TZNAME:MST
DTSTART:20261101T080000
END:STANDARD
BEGIN:DAYLIGHT
TZOFFSETFROM:-0700
TZOFFSETTO:-0600
TZNAME:MDT
DTSTART:20270314T090000
END:DAYLIGHT
BEGIN:STANDARD
TZOFFSETFROM:-0600
TZOFFSETTO:-0700
TZNAME:MST
DTSTART:20271107T080000
END:STANDARD
END:VTIMEZONE
BEGIN:VEVENT
DTSTART;TZID=America/Denver:20260516T140000
DTEND;TZID=America/Denver:20260516T160000
DTSTAMP:20260425T060526
CREATED:20260424T180641Z
LAST-MODIFIED:20260424T230331Z
UID:6745-1778940000-1778947200@thehappybeast.com
SUMMARY:Trivial Paw-suit
DESCRIPTION:Think you’re top dog when it comes to trivia? 🐶Bring your friends and your brain power for a fun-filled afternoon of canine-themed trivia! Friendly pups are welcome\, so come enjoy our newly renovated patio and off-leash enrichment yard. \n\n\n\nMeet adorable\, adoptable dogs from Mother Gaia Animal Rescue and Gray Muzzle Society\, and support a great cause—because a portion of proceeds will benefit these rescues.
URL:https://thehappybeast.com/event/trivial-paw-suit/
LOCATION:The Happy Beast\, 1230 Etna Dr.\, Lafayette\, CO\, 80026\, United States
ATTACH;FMTTYPE=image/png:https://thehappybeast.com/wp-content/uploads/2026/04/Beige-And-Purple-Playful-Trivia-Night-Facebook-Post-.png
ORGANIZER;CN="The Happy Beast":MAILTO:eat@thehappybeast.com
END:VEVENT
END:VCALENDAR