BEGIN:VCALENDAR
VERSION:2.0
PRODID:-//The Happy Beast - ECPv6.15.20//NONSGML v1.0//EN
CALSCALE:GREGORIAN
METHOD:PUBLISH
X-WR-CALNAME:The Happy Beast
X-ORIGINAL-URL:https://thehappybeast.com
X-WR-CALDESC:Events for The Happy Beast
REFRESH-INTERVAL;VALUE=DURATION:PT1H
X-Robots-Tag:noindex
X-PUBLISHED-TTL:PT1H
BEGIN:VTIMEZONE
TZID:America/Denver
BEGIN:DAYLIGHT
TZOFFSETFROM:-0700
TZOFFSETTO:-0600
TZNAME:MDT
DTSTART:20150308T090000
END:DAYLIGHT
BEGIN:STANDARD
TZOFFSETFROM:-0600
TZOFFSETTO:-0700
TZNAME:MST
DTSTART:20151101T080000
END:STANDARD
BEGIN:DAYLIGHT
TZOFFSETFROM:-0700
TZOFFSETTO:-0600
TZNAME:MDT
DTSTART:20160313T090000
END:DAYLIGHT
BEGIN:STANDARD
TZOFFSETFROM:-0600
TZOFFSETTO:-0700
TZNAME:MST
DTSTART:20161106T080000
END:STANDARD
BEGIN:DAYLIGHT
TZOFFSETFROM:-0700
TZOFFSETTO:-0600
TZNAME:MDT
DTSTART:20170312T090000
END:DAYLIGHT
BEGIN:STANDARD
TZOFFSETFROM:-0600
TZOFFSETTO:-0700
TZNAME:MST
DTSTART:20171105T080000
END:STANDARD
END:VTIMEZONE
BEGIN:VEVENT
DTSTART;TZID=America/Denver:20160529T040000
DTEND;TZID=America/Denver:20160529T070000
DTSTAMP:20260419T095218
CREATED:20160505T054123Z
LAST-MODIFIED:20160508T224300Z
UID:5165-1464494400-1464505200@thehappybeast.com
SUMMARY:Canine Massage @ The Happy Beast - 5/29/16
DESCRIPTION:Canine massage with Claire Martin\, CCMT\, CVT\n$10 donation for a 30-minute massage\nDonatations benefit Do Over Dogs\nCall the store at 303-604-1300 to schedule an appointment
URL:https://thehappybeast.com/event/event-canine-massage/
LOCATION:The Happy Beast\, 1230 Etna Dr.\, Lafayette\, CO\, 80026\, United States
CATEGORIES:Canine Massage
ATTACH;FMTTYPE=image/jpeg:https://thehappybeast.com/wp-content/uploads/2016/05/canine-massage-the-happy-beast.jpg
ORGANIZER;CN="The Happy Beast":MAILTO:eat@thehappybeast.com
END:VEVENT
BEGIN:VEVENT
DTSTART;TZID=America/Denver:20160320T040000
DTEND;TZID=America/Denver:20160320T070000
DTSTAMP:20260419T095218
CREATED:20160320T002557Z
LAST-MODIFIED:20160508T224528Z
UID:5097-1458446400-1458457200@thehappybeast.com
SUMMARY:Doberman Adoptions & Canine Massage @ The Happy Beast
DESCRIPTION:Meet dogs from Saving Dobermankind looking for their forever families!\nFree coffee and pastries all morning!\n$5 Donation for 10-minute massage for your canine with Claire Martin\, CVT Peak Animal Wellness and Massage
URL:https://thehappybeast.com/event/doberman-adoptions-canine-massage/
LOCATION:The Happy Beast\, 1230 Etna Dr.\, Lafayette\, CO\, 80026\, United States
CATEGORIES:Adoptions,Canine Massage
ATTACH;FMTTYPE=image/jpeg:https://thehappybeast.com/wp-content/uploads/2016/03/doberman-adoption-event-dobermankind-the-happy-beast.jpg
ORGANIZER;CN="The Happy Beast":MAILTO:eat@thehappybeast.com
END:VEVENT
END:VCALENDAR